 BEGIN:VCALENDAR
VERSION:1.0
PRODID:SSPCA Web Calendar
TZ:-07
BEGIN:VEVENT
ORGANIZER:MAILTO: zlexpo@zlexpo.org
SUMMARY;ENCODING=QUOTED-PRINTABLE: SZMBC 2015 - 2015 Shenzhen Maternity-Baby-Children Products Expo
LOCATION;ENCODING=QUOTED-PRINTABLE: Shenzhen
DESCRIPTION;ENCODING=QUOTED-PRINTABLE: More Details£º=0D=0A
DTSTART:20150813T000000Z 
DTEND:20150815T000000Z 
END:VEVENT
END:VCALENDAR