 BEGIN:VCALENDAR
VERSION:1.0
PRODID:SSPCA Web Calendar
TZ:-07
BEGIN:VEVENT
ORGANIZER:MAILTO: michaell@cdmc.org.cn
SUMMARY;ENCODING=QUOTED-PRINTABLE: 11th Annual China Nuclear Convention 2015
LOCATION;ENCODING=QUOTED-PRINTABLE: Beijing
DESCRIPTION;ENCODING=QUOTED-PRINTABLE: More Details£º=0D=0Ahttp://www.chinaexhibition.com/trade_events/7526-11th_Annual_China_Nuclear_Convention_2015.html
DTSTART:20150521T000000Z 
DTEND:20150522T000000Z 
END:VEVENT
END:VCALENDAR