 BEGIN:VCALENDAR
VERSION:1.0
PRODID:SSPCA Web Calendar
TZ:-07
BEGIN:VEVENT
ORGANIZER:MAILTO: zhuhai@airshow.com.cn;tradevisitors@163.com
SUMMARY;ENCODING=QUOTED-PRINTABLE: Airshow China 2016 - The 11th China International Aviation & Aerospace Exhibition
LOCATION;ENCODING=QUOTED-PRINTABLE: Zhuhai
DESCRIPTION;ENCODING=QUOTED-PRINTABLE: More Details£º=0D=0A
DTSTART:20161101T000000Z 
DTEND:20161106T000000Z 
END:VEVENT
END:VCALENDAR