 BEGIN:VCALENDAR
VERSION:1.0
PRODID:SSPCA Web Calendar
TZ:-07
BEGIN:VEVENT
ORGANIZER:MAILTO: john@aiexpo.com.cn
SUMMARY;ENCODING=QUOTED-PRINTABLE: 2015 China International Shale Gas Technology Equipment Exhibition & Summit Forum
LOCATION;ENCODING=QUOTED-PRINTABLE: Shanghai
DESCRIPTION;ENCODING=QUOTED-PRINTABLE: More Details£º=0D=0A
DTSTART:20151124T000000Z 
DTEND:20151126T000000Z 
END:VEVENT
END:VCALENDAR