 BEGIN:VCALENDAR
VERSION:1.0
PRODID:SSPCA Web Calendar
TZ:-07
BEGIN:VEVENT
ORGANIZER:MAILTO: olivia@galleon.cc
SUMMARY;ENCODING=QUOTED-PRINTABLE: The Civil Aerospace Congress 2015
LOCATION;ENCODING=QUOTED-PRINTABLE: Shanghai
DESCRIPTION;ENCODING=QUOTED-PRINTABLE: More Details£º=0D=0Ahttp://www.chinaexhibition.com/trade_events/7209-The_Civil_Aerospace_Congress_2015.html
DTSTART:20150513T000000Z 
DTEND:20150515T000000Z 
END:VEVENT
END:VCALENDAR