 BEGIN:VCALENDAR
VERSION:1.0
PRODID:SSPCA Web Calendar
TZ:-07
BEGIN:VEVENT
ORGANIZER:MAILTO: exhibitions@hktdc.org
SUMMARY;ENCODING=QUOTED-PRINTABLE: HONG KONG BOOK FAIR 2011
LOCATION;ENCODING=QUOTED-PRINTABLE: Hong Kong
DESCRIPTION;ENCODING=QUOTED-PRINTABLE: More Details£º=0D=0Ahttp://www.chinaexhibition.com/trade_events/712-HONG_KONG_BOOK_FAIR_2011.html
DTSTART:20110720T000000Z 
DTEND:20110726T000000Z 
END:VEVENT
END:VCALENDAR