 BEGIN:VCALENDAR
VERSION:1.0
PRODID:SSPCA Web Calendar
TZ:-07
BEGIN:VEVENT
ORGANIZER:MAILTO: h.chen@koelnmesse.cn
SUMMARY;ENCODING=QUOTED-PRINTABLE: China International Hardware Show (CIHS 2011)
LOCATION;ENCODING=QUOTED-PRINTABLE: Shanghai
DESCRIPTION;ENCODING=QUOTED-PRINTABLE: More Details£º=0D=0Ahttp://www.chinaexhibition.com/trade_events/710-China_International_Hardware_Show_(CIHS_2011).html
DTSTART:20110921T000000Z 
DTEND:20110923T000000Z 
END:VEVENT
END:VCALENDAR