 BEGIN:VCALENDAR
VERSION:1.0
PRODID:SSPCA Web Calendar
TZ:-07
BEGIN:VEVENT
ORGANIZER:MAILTO: kuozhan_luoxue@163.com;luoxueexpo@hotmail.com
SUMMARY;ENCODING=QUOTED-PRINTABLE: Film Expo 2015 - The 9th China High-performance Film Technology Expo 2015
LOCATION;ENCODING=QUOTED-PRINTABLE: Shanghai
DESCRIPTION;ENCODING=QUOTED-PRINTABLE: More Details£º=0D=0A
DTSTART:20150707T000000Z 
DTEND:20150709T000000Z 
END:VEVENT
END:VCALENDAR