 BEGIN:VCALENDAR
VERSION:1.0
PRODID:SSPCA Web Calendar
TZ:-07
BEGIN:VEVENT
ORGANIZER:MAILTO: winnie0516@hotmail.com;grand.xi@grahw.com 
SUMMARY;ENCODING=QUOTED-PRINTABLE: Mosaic China 2015 - China (Guangzhou) International Mosaics & Tiles Exhibition
LOCATION;ENCODING=QUOTED-PRINTABLE: Guangzhou
DESCRIPTION;ENCODING=QUOTED-PRINTABLE: More Details£º=0D=0A
DTSTART:20150509T000000Z 
DTEND:20150511T000000Z 
END:VEVENT
END:VCALENDAR