 BEGIN:VCALENDAR
VERSION:1.0
PRODID:SSPCA Web Calendar
TZ:-07
BEGIN:VEVENT
ORGANIZER:MAILTO: olivia@taipeibookfair.org
SUMMARY;ENCODING=QUOTED-PRINTABLE: TIBE 2015 - Taipei International Book Exhibition 2015
LOCATION;ENCODING=QUOTED-PRINTABLE: Taipei
DESCRIPTION;ENCODING=QUOTED-PRINTABLE: More Details£º=0D=0A
DTSTART:20150211T000000Z 
DTEND:20150216T000000Z 
END:VEVENT
END:VCALENDAR