 BEGIN:VCALENDAR
VERSION:1.0
PRODID:SSPCA Web Calendar
TZ:-07
BEGIN:VEVENT
ORGANIZER:MAILTO: rita.parasurum@ibcasia.com.sg;
SUMMARY;ENCODING=QUOTED-PRINTABLE: IBC's 5th Annual Biomanufacturing Asia 2015
LOCATION;ENCODING=QUOTED-PRINTABLE: Shanghai
DESCRIPTION;ENCODING=QUOTED-PRINTABLE: More Details£º=0D=0Ahttp://www.chinaexhibition.com/trade_events/6360-IBC\\\'s_5th_Annual_Biomanufacturing_Asia_2015.html
DTSTART:20150519T000000Z 
DTEND:20150522T000000Z 
END:VEVENT
END:VCALENDAR