 BEGIN:VCALENDAR
VERSION:1.0
PRODID:SSPCA Web Calendar
TZ:-07
BEGIN:VEVENT
ORGANIZER:MAILTO: info@aiexpo.com.cn
SUMMARY;ENCODING=QUOTED-PRINTABLE: CIHE 2015 - 2015 China (Shanghai) International Health Industry Exhibition
LOCATION;ENCODING=QUOTED-PRINTABLE: Shanghai
DESCRIPTION;ENCODING=QUOTED-PRINTABLE: More Details£º=0D=0A
DTSTART:20150902T000000Z 
DTEND:20150904T000000Z 
END:VEVENT
END:VCALENDAR