 BEGIN:VCALENDAR
VERSION:1.0
PRODID:SSPCA Web Calendar
TZ:-07
BEGIN:VEVENT
ORGANIZER:MAILTO: vicky@cancercon-congress.com;betty@cancercon-congress.com
SUMMARY;ENCODING=QUOTED-PRINTABLE: WCC 2015 - BIT's 8th Annual World Cancer Congress 2015
LOCATION;ENCODING=QUOTED-PRINTABLE: Beijing
DESCRIPTION;ENCODING=QUOTED-PRINTABLE: More Details£º=0D=0A
DTSTART:20150515T000000Z 
DTEND:20150517T000000Z 
END:VEVENT
END:VCALENDAR