 BEGIN:VCALENDAR
VERSION:1.0
PRODID:SSPCA Web Calendar
TZ:-07
BEGIN:VEVENT
ORGANIZER:MAILTO: candy.mk.kwong@hktdc.org
SUMMARY;ENCODING=QUOTED-PRINTABLE: HKTDC Hong Kong International Medical Devices and Supplies Fair 2015
LOCATION;ENCODING=QUOTED-PRINTABLE: Hong Kong
DESCRIPTION;ENCODING=QUOTED-PRINTABLE: More Details£º=0D=0A
DTSTART:20150518T000000Z 
DTEND:20150520T000000Z 
END:VEVENT
END:VCALENDAR