 BEGIN:VCALENDAR
VERSION:1.0
PRODID:SSPCA Web Calendar
TZ:-07
BEGIN:VEVENT
ORGANIZER:MAILTO: rose@bit-neurotalk.com;kate@bit-neurotalk.com
SUMMARY;ENCODING=QUOTED-PRINTABLE: Neurotalk 2015 - BIT's 6th Annual World Congress of Neurotalk 2015
LOCATION;ENCODING=QUOTED-PRINTABLE: Hangzhou
DESCRIPTION;ENCODING=QUOTED-PRINTABLE: More Details£º=0D=0A
DTSTART:20150522T000000Z 
DTEND:20150524T000000Z 
END:VEVENT
END:VCALENDAR