 BEGIN:VCALENDAR
VERSION:1.0
PRODID:SSPCA Web Calendar
TZ:-07
BEGIN:VEVENT
ORGANIZER:MAILTO: daniel.sean@conventeq.com;info@conventeq.com
SUMMARY;ENCODING=QUOTED-PRINTABLE: CIBTPC 2015 - China International Biobased Technology & Partnering Conference 2015
LOCATION;ENCODING=QUOTED-PRINTABLE: Shanghai
DESCRIPTION;ENCODING=QUOTED-PRINTABLE: More Details£º=0D=0A
DTSTART:20150526T000000Z 
DTEND:20150527T000000Z 
END:VEVENT
END:VCALENDAR