 BEGIN:VCALENDAR
VERSION:1.0
PRODID:SSPCA Web Calendar
TZ:-07
BEGIN:VEVENT
ORGANIZER:MAILTO: qifa1238@126.com
SUMMARY;ENCODING=QUOTED-PRINTABLE: CIPVSE 2015 - 2015 The 16th China International Pumps, Valves Exhibition
LOCATION;ENCODING=QUOTED-PRINTABLE: Beijing
DESCRIPTION;ENCODING=QUOTED-PRINTABLE: More Details£º=0D=0A
DTSTART:20150409T000000Z 
DTEND:20150411T000000Z 
END:VEVENT
END:VCALENDAR