 BEGIN:VCALENDAR
VERSION:1.0
PRODID:SSPCA Web Calendar
TZ:-07
BEGIN:VEVENT
ORGANIZER:MAILTO: zouyuan@bit.edu.cn;info@itec2014.com
SUMMARY;ENCODING=QUOTED-PRINTABLE: ITEC Asia-Pacific 2014 - IEEE Transportation Electrification Conference & Expo 2014
LOCATION;ENCODING=QUOTED-PRINTABLE: Beijing
DESCRIPTION;ENCODING=QUOTED-PRINTABLE: More Details£º=0D=0A
DTSTART:20140831T000000Z 
DTEND:20140903T000000Z 
END:VEVENT
END:VCALENDAR