 BEGIN:VCALENDAR
VERSION:1.0
PRODID:SSPCA Web Calendar
TZ:-07
BEGIN:VEVENT
ORGANIZER:MAILTO: Hongkong@affordableartfair.com
SUMMARY;ENCODING=QUOTED-PRINTABLE: Affordable Art Fair Hong Kong 2015
LOCATION;ENCODING=QUOTED-PRINTABLE: Hong Kong
DESCRIPTION;ENCODING=QUOTED-PRINTABLE: More Details£º=0D=0Ahttp://www.chinaexhibition.com/trade_events/5942-Affordable_Art_Fair_Hong_Kong_2015.html
DTSTART:20150522T000000Z 
DTEND:20150524T000000Z 
END:VEVENT
END:VCALENDAR