 BEGIN:VCALENDAR
VERSION:1.0
PRODID:SSPCA Web Calendar
TZ:-07
BEGIN:VEVENT
ORGANIZER:MAILTO: zhangshuai@ccbn.cn
SUMMARY;ENCODING=QUOTED-PRINTABLE: CCBN 2015 - The 23rd China Content Broadcasting Network 2015
LOCATION;ENCODING=QUOTED-PRINTABLE: Beijing
DESCRIPTION;ENCODING=QUOTED-PRINTABLE: More Details£º=0D=0A
DTSTART:20150326T000000Z 
DTEND:20150328T000000Z 
END:VEVENT
END:VCALENDAR