 BEGIN:VCALENDAR
VERSION:1.0
PRODID:SSPCA Web Calendar
TZ:-07
BEGIN:VEVENT
ORGANIZER:MAILTO: ying.gu@reedsinopharm.com;mian.zhang@reedsinopharm.com
SUMMARY;ENCODING=QUOTED-PRINTABLE: CMEF Spring 2015 - The 73rd China International Medical Equipment Fair
LOCATION;ENCODING=QUOTED-PRINTABLE: Shanghai
DESCRIPTION;ENCODING=QUOTED-PRINTABLE: More Details£º=0D=0A
DTSTART:20150515T000000Z 
DTEND:20150518T000000Z 
END:VEVENT
END:VCALENDAR