 BEGIN:VCALENDAR
VERSION:1.0
PRODID:SSPCA Web Calendar
TZ:-07
BEGIN:VEVENT
ORGANIZER:MAILTO: cmtba@cmtba.org.cn
SUMMARY;ENCODING=QUOTED-PRINTABLE: CCMT 2016 - The 9th China CNC Machine Tool Fair 2016
LOCATION;ENCODING=QUOTED-PRINTABLE: Shanghai
DESCRIPTION;ENCODING=QUOTED-PRINTABLE: More Details£º=0D=0A
DTSTART:20160411T000000Z 
DTEND:20160415T000000Z 
END:VEVENT
END:VCALENDAR