 BEGIN:VCALENDAR
VERSION:1.0
PRODID:SSPCA Web Calendar
TZ:-07
BEGIN:VEVENT
ORGANIZER:MAILTO: shirley.hsu@gisevents.com
SUMMARY;ENCODING=QUOTED-PRINTABLE: IFEC 2014 - 7th China Inflight Entertainment & Communications Summit 2014
LOCATION;ENCODING=QUOTED-PRINTABLE: Shanghai
DESCRIPTION;ENCODING=QUOTED-PRINTABLE: More Details£º=0D=0A
DTSTART:20140625T000000Z 
DTEND:20140626T000000Z 
END:VEVENT
END:VCALENDAR