 BEGIN:VCALENDAR
VERSION:1.0
PRODID:SSPCA Web Calendar
TZ:-07
BEGIN:VEVENT
ORGANIZER:MAILTO: https://www.ubmonlinereg.com/Registration/modify.aspx?fid=257&lang=en
SUMMARY;ENCODING=QUOTED-PRINTABLE: Winexpo 2014 - Shanghai International Wine & Spirits Exhibition 2014
LOCATION;ENCODING=QUOTED-PRINTABLE: Shanghai
DESCRIPTION;ENCODING=QUOTED-PRINTABLE: More Details£º=0D=0A
DTSTART:20140331T000000Z 
DTEND:20140403T000000Z 
END:VEVENT
END:VCALENDAR