 BEGIN:VCALENDAR
VERSION:1.0
PRODID:SSPCA Web Calendar
TZ:-07
BEGIN:VEVENT
ORGANIZER:MAILTO: ciampfe@ccpit.org
SUMMARY;ENCODING=QUOTED-PRINTABLE: CIAME 2014 - China International Automobile Manufacturing Exposition 2014
LOCATION;ENCODING=QUOTED-PRINTABLE: Beijing
DESCRIPTION;ENCODING=QUOTED-PRINTABLE: More Details£º=0D=0A
DTSTART:20141120T000000Z 
DTEND:20141122T000000Z 
END:VEVENT
END:VCALENDAR