 BEGIN:VCALENDAR
VERSION:1.0
PRODID:SSPCA Web Calendar
TZ:-07
BEGIN:VEVENT
ORGANIZER:MAILTO: susanna@taitra.org.tw
SUMMARY;ENCODING=QUOTED-PRINTABLE: TIGIS 2014 - 2014 The 5th Taiwan International Green Industry Show
LOCATION;ENCODING=QUOTED-PRINTABLE: Taipei
DESCRIPTION;ENCODING=QUOTED-PRINTABLE: More Details£º=0D=0A
DTSTART:20141006T000000Z 
DTEND:20141009T000000Z 
END:VEVENT
END:VCALENDAR