 BEGIN:VCALENDAR
VERSION:1.0
PRODID:SSPCA Web Calendar
TZ:-07
BEGIN:VEVENT
ORGANIZER:MAILTO: Jessica.Yin@iRecyclingTimes.com
SUMMARY;ENCODING=QUOTED-PRINTABLE: iPrint (China) Expo 2014
LOCATION;ENCODING=QUOTED-PRINTABLE: Zhuhai
DESCRIPTION;ENCODING=QUOTED-PRINTABLE: More Details£º=0D=0Ahttp://www.chinaexhibition.com/trade_events/5124-iPrint_(China)_Expo_2014.html
DTSTART:20141016T000000Z 
DTEND:20141018T000000Z 
END:VEVENT
END:VCALENDAR