 BEGIN:VCALENDAR
VERSION:1.0
PRODID:SSPCA Web Calendar
TZ:-07
BEGIN:VEVENT
ORGANIZER:MAILTO: pvchina@premierevision.com
SUMMARY;ENCODING=QUOTED-PRINTABLE: Premiere Vision China 2014
LOCATION;ENCODING=QUOTED-PRINTABLE: Shanghai
DESCRIPTION;ENCODING=QUOTED-PRINTABLE: More Details£º=0D=0Ahttp://www.chinaexhibition.com/trade_events/5121-Premiere_Vision_China_2014.html
DTSTART:20140304T000000Z 
DTEND:20140305T000000Z 
END:VEVENT
END:VCALENDAR