 BEGIN:VCALENDAR
VERSION:1.0
PRODID:SSPCA Web Calendar
TZ:-07
BEGIN:VEVENT
ORGANIZER:MAILTO: john@aiexpo.com.cn
SUMMARY;ENCODING=QUOTED-PRINTABLE: SIPPE 2014 - 9th International Petroleum Petrochemical Natural Gas Technology Equipment Exhibition
LOCATION;ENCODING=QUOTED-PRINTABLE: Shanghai
DESCRIPTION;ENCODING=QUOTED-PRINTABLE: More Details£º=0D=0A
DTSTART:20141204T000000Z 
DTEND:20141206T000000Z 
END:VEVENT
END:VCALENDAR