 BEGIN:VCALENDAR
VERSION:1.0
PRODID:SSPCA Web Calendar
TZ:-07
BEGIN:VEVENT
ORGANIZER:MAILTO: international@sifse.com
SUMMARY;ENCODING=QUOTED-PRINTABLE: CFIE 2014 - Shanghai International Condiments and Food Ingredients Exhibition 2014
LOCATION;ENCODING=QUOTED-PRINTABLE: Shanghai
DESCRIPTION;ENCODING=QUOTED-PRINTABLE: More Details£º=0D=0A
DTSTART:20140903T000000Z 
DTEND:20140905T000000Z 
END:VEVENT
END:VCALENDAR