 BEGIN:VCALENDAR
VERSION:1.0
PRODID:SSPCA Web Calendar
TZ:-07
BEGIN:VEVENT
ORGANIZER:MAILTO: info@cnta.org;denny.jin@ubm.com
SUMMARY;ENCODING=QUOTED-PRINTABLE: SINCE 2015 - 2015 Shanghai International Nonwovens Conference & Exhibition
LOCATION;ENCODING=QUOTED-PRINTABLE: Shanghai
DESCRIPTION;ENCODING=QUOTED-PRINTABLE: More Details£º=0D=0A
DTSTART:20150513T000000Z 
DTEND:20150515T000000Z 
END:VEVENT
END:VCALENDAR