 BEGIN:VCALENDAR
VERSION:1.0
PRODID:SSPCA Web Calendar
TZ:-07
BEGIN:VEVENT
ORGANIZER:MAILTO: zwt@beixingexpo.com
SUMMARY;ENCODING=QUOTED-PRINTABLE: FirstWine China 2014 - The 7th China (Beijing) International Wine Exhibition
LOCATION;ENCODING=QUOTED-PRINTABLE: Beijing
DESCRIPTION;ENCODING=QUOTED-PRINTABLE: More Details£º=0D=0A
DTSTART:20140408T000000Z 
DTEND:20140410T000000Z 
END:VEVENT
END:VCALENDAR