 BEGIN:VCALENDAR
VERSION:1.0
PRODID:SSPCA Web Calendar
TZ:-07
BEGIN:VEVENT
ORGANIZER:MAILTO: candy.tan@terrapinn.com
SUMMARY;ENCODING=QUOTED-PRINTABLE: Hong Kong's Customer Festival 2014
LOCATION;ENCODING=QUOTED-PRINTABLE: Hong Kong
DESCRIPTION;ENCODING=QUOTED-PRINTABLE: More Details£º=0D=0Ahttp://www.chinaexhibition.com/trade_events/4828-Hong_Kong\\\'s_Customer_Festival_2014.html
DTSTART:20140902T000000Z 
DTEND:20140903T000000Z 
END:VEVENT
END:VCALENDAR