 BEGIN:VCALENDAR
VERSION:1.0
PRODID:SSPCA Web Calendar
TZ:-07
BEGIN:VEVENT
ORGANIZER:MAILTO: chong.gu@reedsinopharm.com
SUMMARY;ENCODING=QUOTED-PRINTABLE: The 49th New Drugs China 2014
LOCATION;ENCODING=QUOTED-PRINTABLE: Kunming
DESCRIPTION;ENCODING=QUOTED-PRINTABLE: More Details£º=0D=0Ahttp://www.chinaexhibition.com/trade_events/4774-The_49th_New_Drugs_China_2014.html
DTSTART:20140725T000000Z 
DTEND:20140727T000000Z 
END:VEVENT
END:VCALENDAR