 BEGIN:VCALENDAR
VERSION:1.0
PRODID:SSPCA Web Calendar
TZ:-07
BEGIN:VEVENT
ORGANIZER:MAILTO: wendy@mail.pida.org.tw
SUMMARY;ENCODING=QUOTED-PRINTABLE: ARE Taiwan 2014 - The 6th International Academic Research Exposition
LOCATION;ENCODING=QUOTED-PRINTABLE: Taipei
DESCRIPTION;ENCODING=QUOTED-PRINTABLE: More Details£º=0D=0A
DTSTART:20140617T000000Z 
DTEND:20140619T000000Z 
END:VEVENT
END:VCALENDAR