 BEGIN:VCALENDAR
VERSION:1.0
PRODID:SSPCA Web Calendar
TZ:-07
BEGIN:VEVENT
ORGANIZER:MAILTO: jason.cheng@mail.pida.org.tw
SUMMARY;ENCODING=QUOTED-PRINTABLE: 3D Printing Taiwan 2014
LOCATION;ENCODING=QUOTED-PRINTABLE: Taipei
DESCRIPTION;ENCODING=QUOTED-PRINTABLE: More Details£º=0D=0Ahttp://www.chinaexhibition.com/trade_events/4698-3D_Printing_Taiwan_2014.html
DTSTART:20140617T000000Z 
DTEND:20140619T000000Z 
END:VEVENT
END:VCALENDAR