 BEGIN:VCALENDAR
VERSION:1.0
PRODID:SSPCA Web Calendar
TZ:-07
BEGIN:VEVENT
ORGANIZER:MAILTO: phil.wong@hongkong.messefrankfurt.com;scarlet.mak@hongkong.messefrankfurt.com
SUMMARY;ENCODING=QUOTED-PRINTABLE: GILE 2014 - Guangzhou International Lighting Exhibition 2014
LOCATION;ENCODING=QUOTED-PRINTABLE: Guangzhou
DESCRIPTION;ENCODING=QUOTED-PRINTABLE: More Details£º=0D=0A
DTSTART:20140609T000000Z 
DTEND:20140612T000000Z 
END:VEVENT
END:VCALENDAR