 BEGIN:VCALENDAR
VERSION:1.0
PRODID:SSPCA Web Calendar
TZ:-07
BEGIN:VEVENT
ORGANIZER:MAILTO: zxj@stcec.com
SUMMARY;ENCODING=QUOTED-PRINTABLE: BIO-MED 2014 - The 4th Shanghai International Medical Device and Biotechnology Exhibition
LOCATION;ENCODING=QUOTED-PRINTABLE: Shanghai
DESCRIPTION;ENCODING=QUOTED-PRINTABLE: More Details£º=0D=0A
DTSTART:20140521T000000Z 
DTEND:20140523T000000Z 
END:VEVENT
END:VCALENDAR