 BEGIN:VCALENDAR
VERSION:1.0
PRODID:SSPCA Web Calendar
TZ:-07
BEGIN:VEVENT
ORGANIZER:MAILTO: mmlee@cbme.cn;info@bmexpochina.com
SUMMARY;ENCODING=QUOTED-PRINTABLE: ConcreteTech China 2014 - The 5th China International Concrete Industry Exhibition
LOCATION;ENCODING=QUOTED-PRINTABLE: Beijing
DESCRIPTION;ENCODING=QUOTED-PRINTABLE: More Details£º=0D=0A
DTSTART:20140428T000000Z 
DTEND:20140430T000000Z 
END:VEVENT
END:VCALENDAR