 BEGIN:VCALENDAR
VERSION:1.0
PRODID:SSPCA Web Calendar
TZ:-07
BEGIN:VEVENT
ORGANIZER:MAILTO: gzyfzl@qq.com
SUMMARY;ENCODING=QUOTED-PRINTABLE: PMPSF 2014 - Guangzhou International Pharmacy Milk Powder Sourcing Fair 2014
LOCATION;ENCODING=QUOTED-PRINTABLE: Guangzhou
DESCRIPTION;ENCODING=QUOTED-PRINTABLE: More Details£º=0D=0A
DTSTART:20140527T000000Z 
DTEND:20140529T000000Z 
END:VEVENT
END:VCALENDAR