 BEGIN:VCALENDAR
VERSION:1.0
PRODID:SSPCA Web Calendar
TZ:-07
BEGIN:VEVENT
ORGANIZER:MAILTO: jason_hongwei@yeah.net; jason229202650@gmail.com
SUMMARY;ENCODING=QUOTED-PRINTABLE: Rooftile China 2014 - The 4th China Rooftile & Technology Exhibition 2014
LOCATION;ENCODING=QUOTED-PRINTABLE: Guangzhou
DESCRIPTION;ENCODING=QUOTED-PRINTABLE: More Details£º=0D=0A
DTSTART:20140512T000000Z 
DTEND:20140514T000000Z 
END:VEVENT
END:VCALENDAR