 BEGIN:VCALENDAR
VERSION:1.0
PRODID:SSPCA Web Calendar
TZ:-07
BEGIN:VEVENT
ORGANIZER:MAILTO: info@AsiaFuneralExpo.com
SUMMARY;ENCODING=QUOTED-PRINTABLE: AFE 2014 - 2014 Asia Funeral and Cemetery Expo & Conference
LOCATION;ENCODING=QUOTED-PRINTABLE: Hong Kong
DESCRIPTION;ENCODING=QUOTED-PRINTABLE: More Details£º=0D=0A
DTSTART:20140508T000000Z 
DTEND:20140510T000000Z 
END:VEVENT
END:VCALENDAR