 BEGIN:VCALENDAR
VERSION:1.0
PRODID:SSPCA Web Calendar
TZ:-07
BEGIN:VEVENT
ORGANIZER:MAILTO: cu@zhenweiexpo.com
SUMMARY;ENCODING=QUOTED-PRINTABLE: CuChina 2014 - The 8th China International Exhibition for Copper Industry
LOCATION;ENCODING=QUOTED-PRINTABLE: Tianjin
DESCRIPTION;ENCODING=QUOTED-PRINTABLE: More Details£º=0D=0A
DTSTART:20140306T000000Z 
DTEND:20140309T000000Z 
END:VEVENT
END:VCALENDAR