 BEGIN:VCALENDAR
VERSION:1.0
PRODID:SSPCA Web Calendar
TZ:-07
BEGIN:VEVENT
ORGANIZER:MAILTO: cme@grandeurhk.com; 
SUMMARY;ENCODING=QUOTED-PRINTABLE: CME 2014 - 2014 China International Building Materials and Mine Machinery Exhibition
LOCATION;ENCODING=QUOTED-PRINTABLE: Guangzhou
DESCRIPTION;ENCODING=QUOTED-PRINTABLE: More Details£º=0D=0A
DTSTART:20140301T000000Z 
DTEND:20140303T000000Z 
END:VEVENT
END:VCALENDAR