 BEGIN:VCALENDAR
VERSION:1.0
PRODID:SSPCA Web Calendar
TZ:-07
BEGIN:VEVENT
ORGANIZER:MAILTO: market@guangzhoumart.com
SUMMARY;ENCODING=QUOTED-PRINTABLE: ISE 2013 - The 11th Guangzhou International Sourcing Exhibition 2013
LOCATION;ENCODING=QUOTED-PRINTABLE: Guangzhou
DESCRIPTION;ENCODING=QUOTED-PRINTABLE: More Details£º=0D=0A
DTSTART:20131021T000000Z 
DTEND:20131027T000000Z 
END:VEVENT
END:VCALENDAR