 BEGIN:VCALENDAR
VERSION:1.0
PRODID:SSPCA Web Calendar
TZ:-07
BEGIN:VEVENT
ORGANIZER:MAILTO: gametime@taiwanslot.com.tw
SUMMARY;ENCODING=QUOTED-PRINTABLE: GTI Asia Taipei Expo 2014
LOCATION;ENCODING=QUOTED-PRINTABLE: Taipei
DESCRIPTION;ENCODING=QUOTED-PRINTABLE: More Details£º=0D=0Ahttp://www.chinaexhibition.com/trade_events/4114-GTI_Asia_Taipei_Expo_2014.html
DTSTART:20140508T000000Z 
DTEND:20140510T000000Z 
END:VEVENT
END:VCALENDAR