 BEGIN:VCALENDAR
VERSION:1.0
PRODID:SSPCA Web Calendar
TZ:-07
BEGIN:VEVENT
ORGANIZER:MAILTO: chinakeshun@126.com
SUMMARY;ENCODING=QUOTED-PRINTABLE: The 10th China (Beijing) International Bearing and Bearing Equipment Exhibition 2013
LOCATION;ENCODING=QUOTED-PRINTABLE: Beijing
DESCRIPTION;ENCODING=QUOTED-PRINTABLE: More Details£º=0D=0A
DTSTART:20130808T000000Z 
DTEND:20130810T000000Z 
END:VEVENT
END:VCALENDAR