 BEGIN:VCALENDAR
VERSION:1.0
PRODID:SSPCA Web Calendar
TZ:-07
BEGIN:VEVENT
ORGANIZER:MAILTO: miee@edumacau.org
SUMMARY;ENCODING=QUOTED-PRINTABLE: MIEE 2013 - Macau International Education Expo 2013
LOCATION;ENCODING=QUOTED-PRINTABLE: Macau/Macao
DESCRIPTION;ENCODING=QUOTED-PRINTABLE: More Details£º=0D=0A
DTSTART:20130429T000000Z 
DTEND:20130501T000000Z 
END:VEVENT
END:VCALENDAR