 BEGIN:VCALENDAR
VERSION:1.0
PRODID:SSPCA Web Calendar
TZ:-07
BEGIN:VEVENT
ORGANIZER:MAILTO: Cady@ice-congress.com
SUMMARY;ENCODING=QUOTED-PRINTABLE: ICE 2013 - The 3rd International Congress of Environment 2013
LOCATION;ENCODING=QUOTED-PRINTABLE: Xi'an
DESCRIPTION;ENCODING=QUOTED-PRINTABLE: More Details£º=0D=0A
DTSTART:20130926T000000Z 
DTEND:20130928T000000Z 
END:VEVENT
END:VCALENDAR