 BEGIN:VCALENDAR
VERSION:1.0
PRODID:SSPCA Web Calendar
TZ:-07
BEGIN:VEVENT
ORGANIZER:MAILTO: lacey@adventi.com.cn
SUMMARY;ENCODING=QUOTED-PRINTABLE: Shanghai Mode Lingerie 2013
LOCATION;ENCODING=QUOTED-PRINTABLE: Shanghai
DESCRIPTION;ENCODING=QUOTED-PRINTABLE: More Details£º=0D=0Ahttp://www.chinaexhibition.com/trade_events/3884-Shanghai_Mode_Lingerie_2013.html
DTSTART:20131022T000000Z 
DTEND:20131023T000000Z 
END:VEVENT
END:VCALENDAR